BEGIN:VCALENDAR
VERSION:2.0
PRODID:-//humanesocietycc.org//NONSGML kigkonsult.se iCalcreator 2.30.10//
CALSCALE:GREGORIAN
METHOD:PUBLISH
UID:77a119bf-b480-4548-ba11-5c113f5799e5
X-WR-CALDESC:
X-WR-RELCALID:eaaa2695bb90444997bdada3a9bcad61
X-WR-TIMEZONE:America/New_York
BEGIN:VTIMEZONE
TZID:America/New_York
BEGIN:STANDARD
TZNAME:EST
DTSTART:20281105T020000
TZOFFSETFROM:-0400
TZOFFSETTO:-0500
RDATE:20291104T020000
RDATE:20301103T020000
END:STANDARD
BEGIN:DAYLIGHT
TZNAME:EDT
DTSTART:20290311T020000
TZOFFSETFROM:-0500
TZOFFSETTO:-0400
RDATE:20300310T020000
END:DAYLIGHT
END:VTIMEZONE
BEGIN:VEVENT
UID:ddb8c635-d7db-47f1-9f1b-e6b19da4ed48
DTSTAMP:20260423T162655Z
DESCRIPTION:
DTSTART;TZID=America/New_York:20290521T000000
DTEND;TZID=America/New_York:20290521T235900
LOCATION:
SUMMARY:Shelter Closed
END:VEVENT
END:VCALENDAR
