BEGIN:VCALENDAR
VERSION:2.0
PRODID:-//humanesocietycc.org//NONSGML kigkonsult.se iCalcreator 2.30.10//
CALSCALE:GREGORIAN
METHOD:PUBLISH
UID:4527fd9b-9952-419c-b37a-515def4f35be
X-WR-CALDESC:
X-WR-RELCALID:037e1bf641df23d63acacc5f9bd412d7
X-WR-TIMEZONE:America/New_York
BEGIN:VTIMEZONE
TZID:America/New_York
BEGIN:STANDARD
TZNAME:EST
DTSTART:20281105T020000
TZOFFSETFROM:-0400
TZOFFSETTO:-0500
RDATE:20291104T020000
RDATE:20301103T020000
END:STANDARD
BEGIN:DAYLIGHT
TZNAME:EDT
DTSTART:20290311T020000
TZOFFSETFROM:-0500
TZOFFSETTO:-0400
RDATE:20300310T020000
END:DAYLIGHT
END:VTIMEZONE
BEGIN:VEVENT
UID:134935ce-255e-4ab6-8b8c-f88697d8fd48
DTSTAMP:20260423T180906Z
DESCRIPTION:
DTSTART;TZID=America/New_York:20290604T000000
DTEND;TZID=America/New_York:20290604T235900
LOCATION:
SUMMARY:Shelter Closed
END:VEVENT
END:VCALENDAR
