BEGIN:VCALENDAR
VERSION:2.0
PRODID:-//humanesocietycc.org//NONSGML kigkonsult.se iCalcreator 2.30.10//
CALSCALE:GREGORIAN
METHOD:PUBLISH
UID:117966e8-1231-4ba2-82cd-1d4d8b17a577
X-WR-CALDESC:
X-WR-RELCALID:b349693ed2dfb7d7d97b254f1d736a1b
X-WR-TIMEZONE:America/New_York
BEGIN:VTIMEZONE
TZID:America/New_York
BEGIN:STANDARD
TZNAME:EST
DTSTART:20281105T020000
TZOFFSETFROM:-0400
TZOFFSETTO:-0500
RDATE:20291104T020000
RDATE:20301103T020000
END:STANDARD
BEGIN:DAYLIGHT
TZNAME:EDT
DTSTART:20290311T020000
TZOFFSETFROM:-0500
TZOFFSETTO:-0400
RDATE:20300310T020000
END:DAYLIGHT
END:VTIMEZONE
BEGIN:VEVENT
UID:b12e9ba2-2341-403a-8ce4-753d0fb523e6
DTSTAMP:20260423T194805Z
DESCRIPTION:
DTSTART;TZID=America/New_York:20290702T000000
DTEND;TZID=America/New_York:20290702T235900
LOCATION:
SUMMARY:Shelter Closed
END:VEVENT
END:VCALENDAR
