BEGIN:VCALENDAR
VERSION:2.0
PRODID:-//humanesocietycc.org//NONSGML kigkonsult.se iCalcreator 2.30.10//
CALSCALE:GREGORIAN
METHOD:PUBLISH
UID:d5641f69-7173-4849-8a1e-dfa7986b220b
X-WR-CALDESC:
X-WR-RELCALID:cfd2c0d04a2a5deda0d05379b752271d
X-WR-TIMEZONE:America/New_York
BEGIN:VTIMEZONE
TZID:America/New_York
BEGIN:STANDARD
TZNAME:EST
DTSTART:20281105T020000
TZOFFSETFROM:-0400
TZOFFSETTO:-0500
RDATE:20291104T020000
RDATE:20301103T020000
END:STANDARD
BEGIN:DAYLIGHT
TZNAME:EDT
DTSTART:20290311T020000
TZOFFSETFROM:-0500
TZOFFSETTO:-0400
RDATE:20300310T020000
END:DAYLIGHT
END:VTIMEZONE
BEGIN:VEVENT
UID:356de656-53c6-4c0e-813a-20b8e0b2ff56
DTSTAMP:20260423T194955Z
DESCRIPTION:
DTSTART;TZID=America/New_York:20290709T000000
DTEND;TZID=America/New_York:20290709T235900
LOCATION:
SUMMARY:Shelter Closed
END:VEVENT
END:VCALENDAR
