BEGIN:VCALENDAR
VERSION:2.0
PRODID:-//humanesocietycc.org//NONSGML kigkonsult.se iCalcreator 2.30.10//
CALSCALE:GREGORIAN
METHOD:PUBLISH
UID:a421b72a-d9fa-49c9-bb56-2c1eed8a9bf6
X-WR-CALDESC:
X-WR-RELCALID:84ac68b81a8e72d29c3c82e7f5f5d6d4
X-WR-TIMEZONE:America/New_York
BEGIN:VTIMEZONE
TZID:America/New_York
BEGIN:STANDARD
TZNAME:EST
DTSTART:20281105T020000
TZOFFSETFROM:-0400
TZOFFSETTO:-0500
RDATE:20291104T020000
RDATE:20301103T020000
END:STANDARD
BEGIN:DAYLIGHT
TZNAME:EDT
DTSTART:20290311T020000
TZOFFSETFROM:-0500
TZOFFSETTO:-0400
RDATE:20300310T020000
END:DAYLIGHT
END:VTIMEZONE
BEGIN:VEVENT
UID:39da1912-4257-4e6e-9379-b7e68ab83b3a
DTSTAMP:20260423T202551Z
DESCRIPTION:
DTSTART;TZID=America/New_York:20290716T000000
DTEND;TZID=America/New_York:20290716T235900
LOCATION:
SUMMARY:Shelter Closed
END:VEVENT
END:VCALENDAR
