BEGIN:VCALENDAR
VERSION:2.0
PRODID:-//humanesocietycc.org//NONSGML kigkonsult.se iCalcreator 2.30.10//
CALSCALE:GREGORIAN
METHOD:PUBLISH
UID:d885d054-c8f9-4cca-bd18-24a4ced93281
X-WR-CALDESC:
X-WR-RELCALID:e54e88c7c291d7592532686a13744189
X-WR-TIMEZONE:America/New_York
BEGIN:VTIMEZONE
TZID:America/New_York
BEGIN:STANDARD
TZNAME:EST
DTSTART:20281105T020000
TZOFFSETFROM:-0400
TZOFFSETTO:-0500
RDATE:20291104T020000
RDATE:20301103T020000
END:STANDARD
BEGIN:DAYLIGHT
TZNAME:EDT
DTSTART:20290311T020000
TZOFFSETFROM:-0500
TZOFFSETTO:-0400
RDATE:20300310T020000
END:DAYLIGHT
END:VTIMEZONE
BEGIN:VEVENT
UID:64db165a-a82e-43ea-9145-39974ecf71fa
DTSTAMP:20260423T200203Z
DESCRIPTION:
DTSTART;TZID=America/New_York:20290723T000000
DTEND;TZID=America/New_York:20290723T235900
LOCATION:
SUMMARY:Shelter Closed
END:VEVENT
END:VCALENDAR
