BEGIN:VCALENDAR
VERSION:2.0
PRODID:-//humanesocietycc.org//NONSGML kigkonsult.se iCalcreator 2.30.10//
CALSCALE:GREGORIAN
METHOD:PUBLISH
UID:e5a33afe-6d7c-4271-9316-cf42ac8252cf
X-WR-CALDESC:
X-WR-RELCALID:6eb5bb488adbf064c92854383f9a74b8
X-WR-TIMEZONE:America/New_York
BEGIN:VTIMEZONE
TZID:America/New_York
BEGIN:STANDARD
TZNAME:EST
DTSTART:20281105T020000
TZOFFSETFROM:-0400
TZOFFSETTO:-0500
RDATE:20291104T020000
RDATE:20301103T020000
END:STANDARD
BEGIN:DAYLIGHT
TZNAME:EDT
DTSTART:20290311T020000
TZOFFSETFROM:-0500
TZOFFSETTO:-0400
RDATE:20300310T020000
END:DAYLIGHT
END:VTIMEZONE
BEGIN:VEVENT
UID:7e38bd26-e010-4178-a8f4-be2229b8bad3
DTSTAMP:20260423T195832Z
DESCRIPTION:
DTSTART;TZID=America/New_York:20290730T000000
DTEND;TZID=America/New_York:20290730T235900
LOCATION:
SUMMARY:Shelter Closed
END:VEVENT
END:VCALENDAR
