BEGIN:VCALENDAR
VERSION:2.0
PRODID:-//humanesocietycc.org//NONSGML kigkonsult.se iCalcreator 2.30.10//
CALSCALE:GREGORIAN
METHOD:PUBLISH
UID:82d41d56-8465-445f-b554-f41e37259b8e
X-WR-CALDESC:
X-WR-RELCALID:0a78f7ea7ad7febea952fe5f99290772
X-WR-TIMEZONE:America/New_York
BEGIN:VTIMEZONE
TZID:America/New_York
BEGIN:STANDARD
TZNAME:EST
DTSTART:20281105T020000
TZOFFSETFROM:-0400
TZOFFSETTO:-0500
RDATE:20291104T020000
RDATE:20301103T020000
END:STANDARD
BEGIN:DAYLIGHT
TZNAME:EDT
DTSTART:20290311T020000
TZOFFSETFROM:-0500
TZOFFSETTO:-0400
RDATE:20300310T020000
END:DAYLIGHT
END:VTIMEZONE
BEGIN:VEVENT
UID:7fca56fa-baf7-487f-b8f3-b592e655aae9
DTSTAMP:20260423T211211Z
DESCRIPTION:
DTSTART;TZID=America/New_York:20290806T000000
DTEND;TZID=America/New_York:20290806T235900
LOCATION:
SUMMARY:Shelter Closed
END:VEVENT
END:VCALENDAR
