BEGIN:VCALENDAR
VERSION:2.0
PRODID:-//humanesocietycc.org//NONSGML kigkonsult.se iCalcreator 2.30.10//
CALSCALE:GREGORIAN
METHOD:PUBLISH
UID:421bdd7a-6e6e-44f0-87d2-8024daa177c8
X-WR-CALDESC:
X-WR-RELCALID:6fba0e4fedf9cadeeb82dbec4de279c3
X-WR-TIMEZONE:America/New_York
BEGIN:VTIMEZONE
TZID:America/New_York
BEGIN:STANDARD
TZNAME:EST
DTSTART:20281105T020000
TZOFFSETFROM:-0400
TZOFFSETTO:-0500
RDATE:20291104T020000
RDATE:20301103T020000
END:STANDARD
BEGIN:DAYLIGHT
TZNAME:EDT
DTSTART:20290311T020000
TZOFFSETFROM:-0500
TZOFFSETTO:-0400
RDATE:20300310T020000
END:DAYLIGHT
END:VTIMEZONE
BEGIN:VEVENT
UID:117d92ea-6741-4691-ba0b-b74375e8c2c6
DTSTAMP:20260423T212645Z
DESCRIPTION:
DTSTART;TZID=America/New_York:20290813T000000
DTEND;TZID=America/New_York:20290813T235900
LOCATION:
SUMMARY:Shelter Closed
END:VEVENT
END:VCALENDAR
