BEGIN:VCALENDAR
VERSION:2.0
PRODID:-//humanesocietycc.org//NONSGML kigkonsult.se iCalcreator 2.30.10//
CALSCALE:GREGORIAN
METHOD:PUBLISH
UID:56490dac-7164-4a73-a79a-66d4ebe8889b
X-WR-CALDESC:
X-WR-RELCALID:b76623a2d48849255b910ae83a67804b
X-WR-TIMEZONE:America/New_York
BEGIN:VTIMEZONE
TZID:America/New_York
BEGIN:STANDARD
TZNAME:EST
DTSTART:20281105T020000
TZOFFSETFROM:-0400
TZOFFSETTO:-0500
RDATE:20291104T020000
RDATE:20301103T020000
END:STANDARD
BEGIN:DAYLIGHT
TZNAME:EDT
DTSTART:20290311T020000
TZOFFSETFROM:-0500
TZOFFSETTO:-0400
RDATE:20300310T020000
END:DAYLIGHT
END:VTIMEZONE
BEGIN:VEVENT
UID:303d1d5e-de05-4bcc-962c-4d496dd64327
DTSTAMP:20260423T210223Z
DESCRIPTION:
DTSTART;TZID=America/New_York:20290820T000000
DTEND;TZID=America/New_York:20290820T235900
LOCATION:
SUMMARY:Shelter Closed
END:VEVENT
END:VCALENDAR
