BEGIN:VCALENDAR
VERSION:2.0
PRODID:-//humanesocietycc.org//NONSGML kigkonsult.se iCalcreator 2.30.10//
CALSCALE:GREGORIAN
METHOD:PUBLISH
UID:8d87b5c2-5329-4f43-90ff-04a98c288588
X-WR-CALDESC:
X-WR-RELCALID:d8419ad3205d1687adbf016f79c051b8
X-WR-TIMEZONE:America/New_York
BEGIN:VTIMEZONE
TZID:America/New_York
BEGIN:STANDARD
TZNAME:EST
DTSTART:20281105T020000
TZOFFSETFROM:-0400
TZOFFSETTO:-0500
RDATE:20291104T020000
RDATE:20301103T020000
END:STANDARD
BEGIN:DAYLIGHT
TZNAME:EDT
DTSTART:20290311T020000
TZOFFSETFROM:-0500
TZOFFSETTO:-0400
RDATE:20300310T020000
END:DAYLIGHT
END:VTIMEZONE
BEGIN:VEVENT
UID:071a4d73-ddb4-46f7-982a-b6bb03fec693
DTSTAMP:20260423T210542Z
DESCRIPTION:
DTSTART;TZID=America/New_York:20290827T000000
DTEND;TZID=America/New_York:20290827T235900
LOCATION:
SUMMARY:Shelter Closed
END:VEVENT
END:VCALENDAR
