BEGIN:VCALENDAR
VERSION:2.0
PRODID:-//humanesocietycc.org//NONSGML kigkonsult.se iCalcreator 2.30.10//
CALSCALE:GREGORIAN
METHOD:PUBLISH
UID:1bef6b11-326b-4150-95d0-c19d3f5699d1
X-WR-CALDESC:
X-WR-RELCALID:1ef8e835307c6c06d572216553a56cd4
X-WR-TIMEZONE:America/New_York
BEGIN:VTIMEZONE
TZID:America/New_York
BEGIN:STANDARD
TZNAME:EST
DTSTART:20281105T020000
TZOFFSETFROM:-0400
TZOFFSETTO:-0500
RDATE:20291104T020000
RDATE:20301103T020000
END:STANDARD
BEGIN:DAYLIGHT
TZNAME:EDT
DTSTART:20290311T020000
TZOFFSETFROM:-0500
TZOFFSETTO:-0400
RDATE:20300310T020000
RDATE:20310309T020000
END:DAYLIGHT
END:VTIMEZONE
BEGIN:VEVENT
UID:006328a7-bc53-40ca-b7c0-d53812439c5d
DTSTAMP:20260423T225222Z
DESCRIPTION:
DTSTART;TZID=America/New_York:20290910T000000
DTEND;TZID=America/New_York:20290910T235900
LOCATION:
SUMMARY:Shelter Closed
END:VEVENT
END:VCALENDAR
