BEGIN:VCALENDAR
VERSION:2.0
PRODID:-//humanesocietycc.org//NONSGML kigkonsult.se iCalcreator 2.30.10//
CALSCALE:GREGORIAN
METHOD:PUBLISH
UID:e950ed09-b5a6-42c3-a077-cc0077dcc295
X-WR-CALDESC:
X-WR-RELCALID:3326461979a438bfea0e545516ea002f
X-WR-TIMEZONE:America/New_York
BEGIN:VTIMEZONE
TZID:America/New_York
BEGIN:STANDARD
TZNAME:EST
DTSTART:20281105T020000
TZOFFSETFROM:-0400
TZOFFSETTO:-0500
RDATE:20291104T020000
RDATE:20301103T020000
END:STANDARD
BEGIN:DAYLIGHT
TZNAME:EDT
DTSTART:20290311T020000
TZOFFSETFROM:-0500
TZOFFSETTO:-0400
RDATE:20300310T020000
RDATE:20310309T020000
END:DAYLIGHT
END:VTIMEZONE
BEGIN:VEVENT
UID:4dc274d9-f902-42a1-b0e9-eab3a4115a7e
DTSTAMP:20260424T002129Z
DESCRIPTION:
DTSTART;TZID=America/New_York:20291001T000000
DTEND;TZID=America/New_York:20291001T235900
LOCATION:
SUMMARY:Shelter Closed
END:VEVENT
END:VCALENDAR
