BEGIN:VCALENDAR
VERSION:2.0
PRODID:-//humanesocietycc.org//NONSGML kigkonsult.se iCalcreator 2.30.10//
CALSCALE:GREGORIAN
METHOD:PUBLISH
UID:9659613c-6f16-4fc6-8fd0-f650ffb7a0d2
X-WR-CALDESC:
X-WR-RELCALID:3363fa6a775b5bbe272732cd6fc76513
X-WR-TIMEZONE:America/New_York
BEGIN:VTIMEZONE
TZID:America/New_York
BEGIN:STANDARD
TZNAME:EST
DTSTART:20281105T020000
TZOFFSETFROM:-0400
TZOFFSETTO:-0500
RDATE:20291104T020000
RDATE:20301103T020000
END:STANDARD
BEGIN:DAYLIGHT
TZNAME:EDT
DTSTART:20290311T020000
TZOFFSETFROM:-0500
TZOFFSETTO:-0400
RDATE:20300310T020000
RDATE:20310309T020000
END:DAYLIGHT
END:VTIMEZONE
BEGIN:VEVENT
UID:12854a24-27b5-4b4c-ba99-d6d4284ad868
DTSTAMP:20260424T001428Z
DESCRIPTION:
DTSTART;TZID=America/New_York:20291008T000000
DTEND;TZID=America/New_York:20291008T235900
LOCATION:
SUMMARY:Shelter Closed
END:VEVENT
END:VCALENDAR
