BEGIN:VCALENDAR
VERSION:2.0
PRODID:-//humanesocietycc.org//NONSGML kigkonsult.se iCalcreator 2.30.10//
CALSCALE:GREGORIAN
METHOD:PUBLISH
UID:f5032b67-76ab-4fad-a145-3dc0b6dc4802
X-WR-CALDESC:
X-WR-RELCALID:4b933c95c2da047a56854961f3c4d4c1
X-WR-TIMEZONE:America/New_York
BEGIN:VTIMEZONE
TZID:America/New_York
BEGIN:STANDARD
TZNAME:EST
DTSTART:20281105T020000
TZOFFSETFROM:-0400
TZOFFSETTO:-0500
RDATE:20291104T020000
RDATE:20301103T020000
END:STANDARD
BEGIN:DAYLIGHT
TZNAME:EDT
DTSTART:20290311T020000
TZOFFSETFROM:-0500
TZOFFSETTO:-0400
RDATE:20300310T020000
RDATE:20310309T020000
END:DAYLIGHT
END:VTIMEZONE
BEGIN:VEVENT
UID:406ead38-9fc5-4b54-a8e0-6dc0b2398d04
DTSTAMP:20260424T000444Z
DESCRIPTION:
DTSTART;TZID=America/New_York:20291015T000000
DTEND;TZID=America/New_York:20291015T235900
LOCATION:
SUMMARY:Shelter Closed
END:VEVENT
END:VCALENDAR
