BEGIN:VCALENDAR
VERSION:2.0
PRODID:-//humanesocietycc.org//NONSGML kigkonsult.se iCalcreator 2.30.10//
CALSCALE:GREGORIAN
METHOD:PUBLISH
UID:d839e546-a6d1-4de7-a201-a637ba4c178e
X-WR-CALDESC:
X-WR-RELCALID:44114b0664ca9c67eefb663aee21a7fd
X-WR-TIMEZONE:America/New_York
BEGIN:VTIMEZONE
TZID:America/New_York
BEGIN:STANDARD
TZNAME:EST
DTSTART:20281105T020000
TZOFFSETFROM:-0400
TZOFFSETTO:-0500
RDATE:20291104T020000
RDATE:20301103T020000
END:STANDARD
BEGIN:DAYLIGHT
TZNAME:EDT
DTSTART:20290311T020000
TZOFFSETFROM:-0500
TZOFFSETTO:-0400
RDATE:20300310T020000
RDATE:20310309T020000
END:DAYLIGHT
END:VTIMEZONE
BEGIN:VEVENT
UID:3ade4b1e-68dc-4845-839a-956bc665bc33
DTSTAMP:20260424T001805Z
DESCRIPTION:
DTSTART;TZID=America/New_York:20291022T000000
DTEND;TZID=America/New_York:20291022T235900
LOCATION:
SUMMARY:Shelter Closed
END:VEVENT
END:VCALENDAR
