BEGIN:VCALENDAR
VERSION:2.0
PRODID:-//humanesocietycc.org//NONSGML kigkonsult.se iCalcreator 2.30.10//
CALSCALE:GREGORIAN
METHOD:PUBLISH
UID:69b6e70a-1e5d-4f88-9e3e-f7a2aaa7c5be
X-WR-CALDESC:
X-WR-RELCALID:1f75194dca3cf678a83c0d825ddfd7a7
X-WR-TIMEZONE:America/New_York
BEGIN:VTIMEZONE
TZID:America/New_York
BEGIN:STANDARD
TZNAME:EST
DTSTART:20281105T020000
TZOFFSETFROM:-0400
TZOFFSETTO:-0500
RDATE:20291104T020000
RDATE:20301103T020000
END:STANDARD
BEGIN:DAYLIGHT
TZNAME:EDT
DTSTART:20290311T020000
TZOFFSETFROM:-0500
TZOFFSETTO:-0400
RDATE:20300310T020000
RDATE:20310309T020000
END:DAYLIGHT
END:VTIMEZONE
BEGIN:VEVENT
UID:b6b136a4-b1af-439b-a069-404f6a0fd23e
DTSTAMP:20260424T002032Z
DESCRIPTION:
DTSTART;TZID=America/New_York:20291029T000000
DTEND;TZID=America/New_York:20291029T235900
LOCATION:
SUMMARY:Shelter Closed
END:VEVENT
END:VCALENDAR
