BEGIN:VCALENDAR
VERSION:2.0
PRODID:-//humanesocietycc.org//NONSGML kigkonsult.se iCalcreator 2.30.10//
CALSCALE:GREGORIAN
METHOD:PUBLISH
UID:e4437afc-f0f5-4287-8e99-a76fee1290ba
X-WR-CALDESC:
X-WR-RELCALID:36a0cd89a3f72a29276ab0af0f5d3dd1
X-WR-TIMEZONE:America/New_York
BEGIN:VTIMEZONE
TZID:America/New_York
BEGIN:STANDARD
TZNAME:EST
DTSTART:20281105T020000
TZOFFSETFROM:-0400
TZOFFSETTO:-0500
RDATE:20291104T020000
RDATE:20301103T020000
END:STANDARD
BEGIN:DAYLIGHT
TZNAME:EDT
DTSTART:20290311T020000
TZOFFSETFROM:-0500
TZOFFSETTO:-0400
RDATE:20300310T020000
RDATE:20310309T020000
END:DAYLIGHT
END:VTIMEZONE
BEGIN:VEVENT
UID:20eda106-3602-4142-b619-e2bbe6f35948
DTSTAMP:20260424T013722Z
DESCRIPTION:
DTSTART;TZID=America/New_York:20291105T000000
DTEND;TZID=America/New_York:20291105T235900
LOCATION:
SUMMARY:Shelter Closed
END:VEVENT
END:VCALENDAR
