BEGIN:VCALENDAR
VERSION:2.0
PRODID:-//humanesocietycc.org//NONSGML kigkonsult.se iCalcreator 2.30.10//
CALSCALE:GREGORIAN
METHOD:PUBLISH
UID:26844f28-bce5-4eaa-8325-7dc1eb7cd1c8
X-WR-CALDESC:
X-WR-RELCALID:c06e968293644a5aa06b7ad3b05b0647
X-WR-TIMEZONE:America/New_York
BEGIN:VTIMEZONE
TZID:America/New_York
BEGIN:STANDARD
TZNAME:EST
DTSTART:20291104T020000
TZOFFSETFROM:-0400
TZOFFSETTO:-0500
RDATE:20301103T020000
END:STANDARD
BEGIN:DAYLIGHT
TZNAME:EDT
DTSTART:20290311T020000
TZOFFSETFROM:-0500
TZOFFSETTO:-0400
RDATE:20300310T020000
RDATE:20310309T020000
END:DAYLIGHT
END:VTIMEZONE
BEGIN:VEVENT
UID:6a42ba16-d9c5-4cf9-90e7-878b39e78f58
DTSTAMP:20260424T013628Z
DESCRIPTION:
DTSTART;TZID=America/New_York:20291112T000000
DTEND;TZID=America/New_York:20291112T235900
LOCATION:
SUMMARY:Shelter Closed
END:VEVENT
END:VCALENDAR
