BEGIN:VCALENDAR
VERSION:2.0
PRODID:-//humanesocietycc.org//NONSGML kigkonsult.se iCalcreator 2.30.10//
CALSCALE:GREGORIAN
METHOD:PUBLISH
UID:9c354a65-71d3-4348-aae3-550bdcd2353c
X-WR-CALDESC:
X-WR-RELCALID:6fb427ce9fc5ebe8ad162fb594fe5a37
X-WR-TIMEZONE:America/New_York
BEGIN:VTIMEZONE
TZID:America/New_York
BEGIN:STANDARD
TZNAME:EST
DTSTART:20291104T020000
TZOFFSETFROM:-0400
TZOFFSETTO:-0500
RDATE:20301103T020000
END:STANDARD
BEGIN:DAYLIGHT
TZNAME:EDT
DTSTART:20290311T020000
TZOFFSETFROM:-0500
TZOFFSETTO:-0400
RDATE:20300310T020000
RDATE:20310309T020000
END:DAYLIGHT
END:VTIMEZONE
BEGIN:VEVENT
UID:3c958c36-a288-4cf0-b88f-4976727a021d
DTSTAMP:20260424T013231Z
DESCRIPTION:
DTSTART;TZID=America/New_York:20291126T000000
DTEND;TZID=America/New_York:20291126T235900
LOCATION:
SUMMARY:Shelter Closed
END:VEVENT
END:VCALENDAR
