BEGIN:VCALENDAR
VERSION:2.0
PRODID:-//humanesocietycc.org//NONSGML kigkonsult.se iCalcreator 2.30.10//
CALSCALE:GREGORIAN
METHOD:PUBLISH
UID:799bd2b2-cbf0-4a41-8062-becbb7eca98e
X-WR-CALDESC:
X-WR-RELCALID:950fa9cf3bd0815a314dbc0d376ca50e
X-WR-TIMEZONE:America/New_York
BEGIN:VTIMEZONE
TZID:America/New_York
BEGIN:STANDARD
TZNAME:EST
DTSTART:20291104T020000
TZOFFSETFROM:-0400
TZOFFSETTO:-0500
RDATE:20301103T020000
END:STANDARD
BEGIN:DAYLIGHT
TZNAME:EDT
DTSTART:20290311T020000
TZOFFSETFROM:-0500
TZOFFSETTO:-0400
RDATE:20300310T020000
RDATE:20310309T020000
END:DAYLIGHT
END:VTIMEZONE
BEGIN:VEVENT
UID:913039e9-9b51-462a-b5b9-71a8155741da
DTSTAMP:20260424T030617Z
DESCRIPTION:
DTSTART;TZID=America/New_York:20291203T000000
DTEND;TZID=America/New_York:20291203T235900
LOCATION:
SUMMARY:Shelter Closed
END:VEVENT
END:VCALENDAR
