BEGIN:VCALENDAR
VERSION:2.0
PRODID:-//humanesocietycc.org//NONSGML kigkonsult.se iCalcreator 2.30.10//
CALSCALE:GREGORIAN
METHOD:PUBLISH
UID:96dce1fa-45be-410c-b318-1ecdfcd27656
X-WR-CALDESC:
X-WR-RELCALID:7a95df222aad7ac35086df5ea0516269
X-WR-TIMEZONE:America/New_York
BEGIN:VTIMEZONE
TZID:America/New_York
BEGIN:STANDARD
TZNAME:EST
DTSTART:20291104T020000
TZOFFSETFROM:-0400
TZOFFSETTO:-0500
RDATE:20301103T020000
END:STANDARD
BEGIN:DAYLIGHT
TZNAME:EDT
DTSTART:20290311T020000
TZOFFSETFROM:-0500
TZOFFSETTO:-0400
RDATE:20300310T020000
RDATE:20310309T020000
END:DAYLIGHT
END:VTIMEZONE
BEGIN:VEVENT
UID:9dc16f9d-5678-49c6-84f8-e6cfafbeb9e6
DTSTAMP:20260424T030655Z
DESCRIPTION:
DTSTART;TZID=America/New_York:20291210T000000
DTEND;TZID=America/New_York:20291210T235900
LOCATION:
SUMMARY:Shelter Closed
END:VEVENT
END:VCALENDAR
