BEGIN:VCALENDAR
VERSION:2.0
PRODID:-//humanesocietycc.org//NONSGML kigkonsult.se iCalcreator 2.30.10//
CALSCALE:GREGORIAN
METHOD:PUBLISH
UID:299f78bd-3c25-44f9-a1ac-c7073591f192
X-WR-CALDESC:
X-WR-RELCALID:9db13884b8e04a249d4664e2045d4410
X-WR-TIMEZONE:America/New_York
BEGIN:VTIMEZONE
TZID:America/New_York
BEGIN:STANDARD
TZNAME:EST
DTSTART:20291104T020000
TZOFFSETFROM:-0400
TZOFFSETTO:-0500
RDATE:20301103T020000
END:STANDARD
BEGIN:DAYLIGHT
TZNAME:EDT
DTSTART:20290311T020000
TZOFFSETFROM:-0500
TZOFFSETTO:-0400
RDATE:20300310T020000
RDATE:20310309T020000
END:DAYLIGHT
END:VTIMEZONE
BEGIN:VEVENT
UID:77458164-4797-425d-b667-dccc26fdb6e1
DTSTAMP:20260424T030459Z
DESCRIPTION:
DTSTART;TZID=America/New_York:20291217T000000
DTEND;TZID=America/New_York:20291217T235900
LOCATION:
SUMMARY:Shelter Closed
END:VEVENT
END:VCALENDAR
