BEGIN:VCALENDAR
VERSION:2.0
PRODID:-//humanesocietycc.org//NONSGML kigkonsult.se iCalcreator 2.30.10//
CALSCALE:GREGORIAN
METHOD:PUBLISH
UID:17a23eaa-f5c9-4fc1-91e7-74070704de9b
X-WR-CALDESC:
X-WR-RELCALID:0824d9a83fc5d94303200b6ab25dd27c
X-WR-TIMEZONE:America/New_York
BEGIN:VTIMEZONE
TZID:America/New_York
BEGIN:STANDARD
TZNAME:EST
DTSTART:20291104T020000
TZOFFSETFROM:-0400
TZOFFSETTO:-0500
RDATE:20301103T020000
END:STANDARD
BEGIN:DAYLIGHT
TZNAME:EDT
DTSTART:20290311T020000
TZOFFSETFROM:-0500
TZOFFSETTO:-0400
RDATE:20300310T020000
RDATE:20310309T020000
END:DAYLIGHT
END:VTIMEZONE
BEGIN:VEVENT
UID:bbedd6e8-8826-4f7e-857c-05508900e406
DTSTAMP:20260424T030655Z
DESCRIPTION:
DTSTART;TZID=America/New_York:20291224T000000
DTEND;TZID=America/New_York:20291224T235900
LOCATION:
SUMMARY:Shelter Closed
END:VEVENT
END:VCALENDAR
