BEGIN:VCALENDAR
VERSION:2.0
PRODID:-//humanesocietycc.org//NONSGML kigkonsult.se iCalcreator 2.30.10//
CALSCALE:GREGORIAN
METHOD:PUBLISH
UID:f18f0db2-7d7b-4b5b-bf01-3720c6992844
X-WR-CALDESC:The shelter is closed today for the holiday. We can't wait to 
 see you soon!
X-WR-RELCALID:b315d47b7f0054a0c0a337f1cd68a5f9
X-WR-TIMEZONE:America/New_York
BEGIN:VTIMEZONE
TZID:America/New_York
BEGIN:STANDARD
TZNAME:EST
DTSTART:20291104T020000
TZOFFSETFROM:-0400
TZOFFSETTO:-0500
RDATE:20301103T020000
END:STANDARD
BEGIN:DAYLIGHT
TZNAME:EDT
DTSTART:20290311T020000
TZOFFSETFROM:-0500
TZOFFSETTO:-0400
RDATE:20300310T020000
RDATE:20310309T020000
END:DAYLIGHT
END:VTIMEZONE
BEGIN:VEVENT
UID:6e7ba60a-56bb-4c1c-b47a-422340b385f0
DTSTAMP:20260424T030206Z
DESCRIPTION:The shelter is closed today for the holiday. We can't wait to s
 ee you soon!
DTSTART;TZID=America/New_York:20291225T000000
DTEND;TZID=America/New_York:20291225T235900
LOCATION:
SUMMARY:Shelter Closed
END:VEVENT
END:VCALENDAR
