BEGIN:VCALENDAR
VERSION:2.0
PRODID:-//humanesocietycc.org//NONSGML kigkonsult.se iCalcreator 2.30.10//
CALSCALE:GREGORIAN
METHOD:PUBLISH
UID:204f9737-40e8-4b5c-97bc-68d03f465a22
X-WR-CALDESC:
X-WR-RELCALID:43f86c1ca4b27d09006b0a88b9f90d52
X-WR-TIMEZONE:America/New_York
BEGIN:VTIMEZONE
TZID:America/New_York
BEGIN:STANDARD
TZNAME:EST
DTSTART:20291104T020000
TZOFFSETFROM:-0400
TZOFFSETTO:-0500
RDATE:20301103T020000
END:STANDARD
BEGIN:DAYLIGHT
TZNAME:EDT
DTSTART:20290311T020000
TZOFFSETFROM:-0500
TZOFFSETTO:-0400
RDATE:20300310T020000
RDATE:20310309T020000
END:DAYLIGHT
END:VTIMEZONE
BEGIN:VEVENT
UID:9898b485-93e2-4088-93b7-0aa111481e15
DTSTAMP:20260424T030322Z
DESCRIPTION:
DTSTART;TZID=America/New_York:20291231T000000
DTEND;TZID=America/New_York:20291231T235900
LOCATION:
SUMMARY:Shelter Closed
END:VEVENT
END:VCALENDAR
