BEGIN:VCALENDAR
VERSION:2.0
PRODID:-//humanesocietycc.org//NONSGML kigkonsult.se iCalcreator 2.30.10//
CALSCALE:GREGORIAN
METHOD:PUBLISH
UID:9bd861e9-3cdd-43ed-b37a-51046655edf5
X-WR-CALDESC:
X-WR-RELCALID:9765378b4e6b3c8e310d36cf06fcb8ea
X-WR-TIMEZONE:America/New_York
BEGIN:VTIMEZONE
TZID:America/New_York
BEGIN:STANDARD
TZNAME:EST
DTSTART:20291104T020000
TZOFFSETFROM:-0400
TZOFFSETTO:-0500
RDATE:20301103T020000
END:STANDARD
BEGIN:DAYLIGHT
TZNAME:EDT
DTSTART:20290311T020000
TZOFFSETFROM:-0500
TZOFFSETTO:-0400
RDATE:20300310T020000
RDATE:20310309T020000
END:DAYLIGHT
END:VTIMEZONE
BEGIN:VEVENT
UID:f0f0236d-7417-4974-9793-36d1d77728c7
DTSTAMP:20260424T043224Z
DESCRIPTION:
DTSTART;TZID=America/New_York:20300107T000000
DTEND;TZID=America/New_York:20300107T235900
LOCATION:
SUMMARY:Shelter Closed
END:VEVENT
END:VCALENDAR
