BEGIN:VCALENDAR
VERSION:2.0
PRODID:-//humanesocietycc.org//NONSGML kigkonsult.se iCalcreator 2.30.10//
CALSCALE:GREGORIAN
METHOD:PUBLISH
UID:d4a8276f-bf29-454d-be85-5672efb2ea6d
X-WR-CALDESC:
X-WR-RELCALID:a3c4c3f612e6702bd7f17783071f66b8
X-WR-TIMEZONE:America/New_York
BEGIN:VTIMEZONE
TZID:America/New_York
BEGIN:STANDARD
TZNAME:EST
DTSTART:20291104T020000
TZOFFSETFROM:-0400
TZOFFSETTO:-0500
RDATE:20301103T020000
END:STANDARD
BEGIN:DAYLIGHT
TZNAME:EDT
DTSTART:20290311T020000
TZOFFSETFROM:-0500
TZOFFSETTO:-0400
RDATE:20300310T020000
RDATE:20310309T020000
END:DAYLIGHT
END:VTIMEZONE
BEGIN:VEVENT
UID:6ff3e72e-52ed-47d9-89be-ec3a00562400
DTSTAMP:20260424T042624Z
DESCRIPTION:
DTSTART;TZID=America/New_York:20300114T000000
DTEND;TZID=America/New_York:20300114T235900
LOCATION:
SUMMARY:Shelter Closed
END:VEVENT
END:VCALENDAR
