BEGIN:VCALENDAR
VERSION:2.0
PRODID:-//humanesocietycc.org//NONSGML kigkonsult.se iCalcreator 2.30.10//
CALSCALE:GREGORIAN
METHOD:PUBLISH
UID:5e8d86e8-e9e2-4a7b-a148-4b59441cc243
X-WR-CALDESC:
X-WR-RELCALID:1f59c789dde457c60e979c123128291e
X-WR-TIMEZONE:America/New_York
BEGIN:VTIMEZONE
TZID:America/New_York
BEGIN:STANDARD
TZNAME:EST
DTSTART:20291104T020000
TZOFFSETFROM:-0400
TZOFFSETTO:-0500
RDATE:20301103T020000
END:STANDARD
BEGIN:DAYLIGHT
TZNAME:EDT
DTSTART:20290311T020000
TZOFFSETFROM:-0500
TZOFFSETTO:-0400
RDATE:20300310T020000
RDATE:20310309T020000
END:DAYLIGHT
END:VTIMEZONE
BEGIN:VEVENT
UID:d1f62b19-6d5c-444d-8899-4de0c4b45cf0
DTSTAMP:20260424T043354Z
DESCRIPTION:
DTSTART;TZID=America/New_York:20300121T000000
DTEND;TZID=America/New_York:20300121T235900
LOCATION:
SUMMARY:Shelter Closed
END:VEVENT
END:VCALENDAR
