BEGIN:VCALENDAR
VERSION:2.0
PRODID:-//humanesocietycc.org//NONSGML kigkonsult.se iCalcreator 2.30.10//
CALSCALE:GREGORIAN
METHOD:PUBLISH
UID:c8135244-9b39-4c71-9c7c-8fd8fa84f19d
X-WR-CALDESC:
X-WR-RELCALID:00e821d3a10997709996e43ce88b4901
X-WR-TIMEZONE:America/New_York
BEGIN:VTIMEZONE
TZID:America/New_York
BEGIN:STANDARD
TZNAME:EST
DTSTART:20291104T020000
TZOFFSETFROM:-0400
TZOFFSETTO:-0500
RDATE:20301103T020000
END:STANDARD
BEGIN:DAYLIGHT
TZNAME:EDT
DTSTART:20290311T020000
TZOFFSETFROM:-0500
TZOFFSETTO:-0400
RDATE:20300310T020000
RDATE:20310309T020000
END:DAYLIGHT
END:VTIMEZONE
BEGIN:VEVENT
UID:f2c650f7-88cf-4c02-8d2e-6b1d015bc240
DTSTAMP:20260424T055019Z
DESCRIPTION:
DTSTART;TZID=America/New_York:20300218T000000
DTEND;TZID=America/New_York:20300218T235900
LOCATION:
SUMMARY:Shelter Closed
END:VEVENT
END:VCALENDAR
