BEGIN:VCALENDAR
VERSION:2.0
PRODID:-//humanesocietycc.org//NONSGML kigkonsult.se iCalcreator 2.30.10//
CALSCALE:GREGORIAN
METHOD:PUBLISH
UID:418b5fbf-83d0-4bf1-b392-490045c97781
X-WR-CALDESC:
X-WR-RELCALID:300c62679a88113229555e0859ec406f
X-WR-TIMEZONE:America/New_York
BEGIN:VTIMEZONE
TZID:America/New_York
BEGIN:STANDARD
TZNAME:EST
DTSTART:20291104T020000
TZOFFSETFROM:-0400
TZOFFSETTO:-0500
RDATE:20301103T020000
END:STANDARD
BEGIN:DAYLIGHT
TZNAME:EDT
DTSTART:20290311T020000
TZOFFSETFROM:-0500
TZOFFSETTO:-0400
RDATE:20300310T020000
RDATE:20310309T020000
END:DAYLIGHT
END:VTIMEZONE
BEGIN:VEVENT
UID:d3a03a17-b273-43f8-b3c7-7857d2fbc337
DTSTAMP:20260424T055455Z
DESCRIPTION:
DTSTART;TZID=America/New_York:20300225T000000
DTEND;TZID=America/New_York:20300225T235900
LOCATION:
SUMMARY:Shelter Closed
END:VEVENT
END:VCALENDAR
