BEGIN:VCALENDAR
VERSION:2.0
PRODID:-//humanesocietycc.org//NONSGML kigkonsult.se iCalcreator 2.30.10//
CALSCALE:GREGORIAN
METHOD:PUBLISH
UID:83af84c4-7f57-49fb-9836-9105be3a319b
X-WR-CALDESC:
X-WR-RELCALID:a24963cc7038db30fb9ea4880c8fe69e
X-WR-TIMEZONE:America/New_York
BEGIN:VTIMEZONE
TZID:America/New_York
BEGIN:STANDARD
TZNAME:EST
DTSTART:20291104T020000
TZOFFSETFROM:-0400
TZOFFSETTO:-0500
RDATE:20301103T020000
END:STANDARD
BEGIN:DAYLIGHT
TZNAME:EDT
DTSTART:20290311T020000
TZOFFSETFROM:-0500
TZOFFSETTO:-0400
RDATE:20300310T020000
RDATE:20310309T020000
END:DAYLIGHT
END:VTIMEZONE
BEGIN:VEVENT
UID:845728c2-0aa6-4d81-8130-44b09a19823b
DTSTAMP:20260424T073545Z
DESCRIPTION:
DTSTART;TZID=America/New_York:20300304T000000
DTEND;TZID=America/New_York:20300304T235900
LOCATION:
SUMMARY:Shelter Closed
END:VEVENT
END:VCALENDAR
