BEGIN:VCALENDAR
VERSION:2.0
PRODID:-//humanesocietycc.org//NONSGML kigkonsult.se iCalcreator 2.30.10//
CALSCALE:GREGORIAN
METHOD:PUBLISH
UID:bc25ef52-1f71-4c0a-8494-f2abbaa19aa2
X-WR-CALDESC:
X-WR-RELCALID:82e1993c0da46f64318351822e6c233f
X-WR-TIMEZONE:America/New_York
BEGIN:VTIMEZONE
TZID:America/New_York
BEGIN:STANDARD
TZNAME:EST
DTSTART:20291104T020000
TZOFFSETFROM:-0400
TZOFFSETTO:-0500
RDATE:20301103T020000
END:STANDARD
BEGIN:DAYLIGHT
TZNAME:EDT
DTSTART:20290311T020000
TZOFFSETFROM:-0500
TZOFFSETTO:-0400
RDATE:20300310T020000
RDATE:20310309T020000
END:DAYLIGHT
END:VTIMEZONE
BEGIN:VEVENT
UID:131bec21-966b-49fc-9041-ab2ec8357f47
DTSTAMP:20260424T075931Z
DESCRIPTION:
DTSTART;TZID=America/New_York:20300311T000000
DTEND;TZID=America/New_York:20300311T235900
LOCATION:
SUMMARY:Shelter Closed
END:VEVENT
END:VCALENDAR
