BEGIN:VCALENDAR
VERSION:2.0
PRODID:-//humanesocietycc.org//NONSGML kigkonsult.se iCalcreator 2.30.10//
CALSCALE:GREGORIAN
METHOD:PUBLISH
UID:1a9c5f10-f634-444c-9772-6e384ffaa6b9
X-WR-CALDESC:
X-WR-RELCALID:d7b05f204e69cc34f6b8275bcdc1a6ff
X-WR-TIMEZONE:America/New_York
BEGIN:VTIMEZONE
TZID:America/New_York
BEGIN:STANDARD
TZNAME:EST
DTSTART:20291104T020000
TZOFFSETFROM:-0400
TZOFFSETTO:-0500
RDATE:20301103T020000
END:STANDARD
BEGIN:DAYLIGHT
TZNAME:EDT
DTSTART:20300310T020000
TZOFFSETFROM:-0500
TZOFFSETTO:-0400
RDATE:20310309T020000
END:DAYLIGHT
END:VTIMEZONE
BEGIN:VEVENT
UID:d24edbb8-7d1b-4374-b8c1-67393f0bb33a
DTSTAMP:20260424T073620Z
DESCRIPTION:
DTSTART;TZID=America/New_York:20300318T000000
DTEND;TZID=America/New_York:20300318T235900
LOCATION:
SUMMARY:Shelter Closed
END:VEVENT
END:VCALENDAR
