BEGIN:VCALENDAR
VERSION:2.0
PRODID:-//humanesocietycc.org//NONSGML kigkonsult.se iCalcreator 2.30.10//
CALSCALE:GREGORIAN
METHOD:PUBLISH
UID:fa17d7af-1051-45b4-81fb-5183a8f52a5e
X-WR-CALDESC:
X-WR-RELCALID:86c793a9a9e010d93f13d68c260ebceb
X-WR-TIMEZONE:America/New_York
BEGIN:VTIMEZONE
TZID:America/New_York
BEGIN:STANDARD
TZNAME:EST
DTSTART:20291104T020000
TZOFFSETFROM:-0400
TZOFFSETTO:-0500
RDATE:20301103T020000
END:STANDARD
BEGIN:DAYLIGHT
TZNAME:EDT
DTSTART:20300310T020000
TZOFFSETFROM:-0500
TZOFFSETTO:-0400
RDATE:20310309T020000
END:DAYLIGHT
END:VTIMEZONE
BEGIN:VEVENT
UID:f5cf80d6-fc6a-4484-a1ae-dc1421f81732
DTSTAMP:20260424T074119Z
DESCRIPTION:
DTSTART;TZID=America/New_York:20300325T000000
DTEND;TZID=America/New_York:20300325T235900
LOCATION:
SUMMARY:Shelter Closed
END:VEVENT
END:VCALENDAR
