BEGIN:VCALENDAR
VERSION:2.0
PRODID:-//humanesocietycc.org//NONSGML kigkonsult.se iCalcreator 2.30.10//
CALSCALE:GREGORIAN
METHOD:PUBLISH
UID:d2e9495b-3221-4556-9c2d-2d67d5540876
X-WR-CALDESC:
X-WR-RELCALID:b550cd738d49cf60de209ef2857dc604
X-WR-TIMEZONE:America/New_York
BEGIN:VTIMEZONE
TZID:America/New_York
BEGIN:STANDARD
TZNAME:EST
DTSTART:20291104T020000
TZOFFSETFROM:-0400
TZOFFSETTO:-0500
RDATE:20301103T020000
END:STANDARD
BEGIN:DAYLIGHT
TZNAME:EDT
DTSTART:20300310T020000
TZOFFSETFROM:-0500
TZOFFSETTO:-0400
RDATE:20310309T020000
END:DAYLIGHT
END:VTIMEZONE
BEGIN:VEVENT
UID:e30a5193-f37b-40f5-b7ad-611ff8186512
DTSTAMP:20260424T090834Z
DESCRIPTION:
DTSTART;TZID=America/New_York:20300401T000000
DTEND;TZID=America/New_York:20300401T235900
LOCATION:
SUMMARY:Shelter Closed
END:VEVENT
END:VCALENDAR
