BEGIN:VCALENDAR
VERSION:2.0
PRODID:-//humanesocietycc.org//NONSGML kigkonsult.se iCalcreator 2.30.10//
CALSCALE:GREGORIAN
METHOD:PUBLISH
UID:9b2b8935-19df-41ee-9982-8a0e187117a0
X-WR-CALDESC:
X-WR-RELCALID:70d2e4a96dae67098973b83ab18dc46f
X-WR-TIMEZONE:America/New_York
BEGIN:VTIMEZONE
TZID:America/New_York
BEGIN:STANDARD
TZNAME:EST
DTSTART:20291104T020000
TZOFFSETFROM:-0400
TZOFFSETTO:-0500
RDATE:20301103T020000
END:STANDARD
BEGIN:DAYLIGHT
TZNAME:EDT
DTSTART:20300310T020000
TZOFFSETFROM:-0500
TZOFFSETTO:-0400
RDATE:20310309T020000
END:DAYLIGHT
END:VTIMEZONE
BEGIN:VEVENT
UID:c07cd0c1-7b4c-40d5-8a44-0e8106e30237
DTSTAMP:20260424T091306Z
DESCRIPTION:
DTSTART;TZID=America/New_York:20300408T000000
DTEND;TZID=America/New_York:20300408T235900
LOCATION:
SUMMARY:Shelter Closed
END:VEVENT
END:VCALENDAR
