BEGIN:VCALENDAR
VERSION:2.0
PRODID:-//humanesocietycc.org//NONSGML kigkonsult.se iCalcreator 2.30.10//
CALSCALE:GREGORIAN
METHOD:PUBLISH
UID:f26dac1e-53d9-4dee-84e4-79598ce615be
X-WR-CALDESC:
X-WR-RELCALID:58e26e2af84e6d8d9dc16f15eda51301
X-WR-TIMEZONE:America/New_York
BEGIN:VTIMEZONE
TZID:America/New_York
BEGIN:STANDARD
TZNAME:EST
DTSTART:20291104T020000
TZOFFSETFROM:-0400
TZOFFSETTO:-0500
RDATE:20301103T020000
END:STANDARD
BEGIN:DAYLIGHT
TZNAME:EDT
DTSTART:20300310T020000
TZOFFSETFROM:-0500
TZOFFSETTO:-0400
RDATE:20310309T020000
END:DAYLIGHT
END:VTIMEZONE
BEGIN:VEVENT
UID:e9c235b3-d625-41e3-aaa3-74b388f7a705
DTSTAMP:20260424T091720Z
DESCRIPTION:
DTSTART;TZID=America/New_York:20300415T000000
DTEND;TZID=America/New_York:20300415T235900
LOCATION:
SUMMARY:Shelter Closed
END:VEVENT
END:VCALENDAR
