BEGIN:VCALENDAR
VERSION:2.0
PRODID:-//humanesocietycc.org//NONSGML kigkonsult.se iCalcreator 2.30.10//
CALSCALE:GREGORIAN
METHOD:PUBLISH
UID:0efeacb2-d269-479f-974f-372bb8f22477
X-WR-CALDESC:
X-WR-RELCALID:993473ce2d39c1e2d39deea2d8625001
X-WR-TIMEZONE:America/New_York
BEGIN:VTIMEZONE
TZID:America/New_York
BEGIN:STANDARD
TZNAME:EST
DTSTART:20291104T020000
TZOFFSETFROM:-0400
TZOFFSETTO:-0500
RDATE:20301103T020000
END:STANDARD
BEGIN:DAYLIGHT
TZNAME:EDT
DTSTART:20300310T020000
TZOFFSETFROM:-0500
TZOFFSETTO:-0400
RDATE:20310309T020000
END:DAYLIGHT
END:VTIMEZONE
BEGIN:VEVENT
UID:d7cb6bb3-970f-409a-9c28-cb4f762647d8
DTSTAMP:20260424T090846Z
DESCRIPTION:
DTSTART;TZID=America/New_York:20300422T000000
DTEND;TZID=America/New_York:20300422T235900
LOCATION:
SUMMARY:Shelter Closed
END:VEVENT
END:VCALENDAR
