BEGIN:VCALENDAR
VERSION:2.0
PRODID:-//humanesocietycc.org//NONSGML kigkonsult.se iCalcreator 2.30.10//
CALSCALE:GREGORIAN
METHOD:PUBLISH
UID:c1582e44-513c-4ce1-a2c9-5911ea0f1c32
X-WR-CALDESC:
X-WR-RELCALID:60b273d8feceefd2b25f5237fbd0c5fb
X-WR-TIMEZONE:America/New_York
BEGIN:VTIMEZONE
TZID:America/New_York
BEGIN:STANDARD
TZNAME:EST
DTSTART:20291104T020000
TZOFFSETFROM:-0400
TZOFFSETTO:-0500
RDATE:20301103T020000
END:STANDARD
BEGIN:DAYLIGHT
TZNAME:EDT
DTSTART:20300310T020000
TZOFFSETFROM:-0500
TZOFFSETTO:-0400
RDATE:20310309T020000
END:DAYLIGHT
END:VTIMEZONE
BEGIN:VEVENT
UID:717e6a8a-5234-438f-9457-adeba13e41f6
DTSTAMP:20260424T090829Z
DESCRIPTION:
DTSTART;TZID=America/New_York:20300429T000000
DTEND;TZID=America/New_York:20300429T235900
LOCATION:
SUMMARY:Shelter Closed
END:VEVENT
END:VCALENDAR
