BEGIN:VCALENDAR
VERSION:2.0
PRODID:-//humanesocietycc.org//NONSGML kigkonsult.se iCalcreator 2.30.10//
CALSCALE:GREGORIAN
METHOD:PUBLISH
UID:e6038e02-9811-453b-be7f-c154dfb6a38c
X-WR-CALDESC:
X-WR-RELCALID:ea3276bd8b4e4eb3f030f45aabd75c2e
X-WR-TIMEZONE:America/New_York
BEGIN:VTIMEZONE
TZID:America/New_York
BEGIN:STANDARD
TZNAME:EST
DTSTART:20291104T020000
TZOFFSETFROM:-0400
TZOFFSETTO:-0500
RDATE:20301103T020000
RDATE:20311102T020000
END:STANDARD
BEGIN:DAYLIGHT
TZNAME:EDT
DTSTART:20300310T020000
TZOFFSETFROM:-0500
TZOFFSETTO:-0400
RDATE:20310309T020000
END:DAYLIGHT
END:VTIMEZONE
BEGIN:VEVENT
UID:a3f74cb7-9c57-42ce-90a5-beabcf233dd7
DTSTAMP:20260424T111201Z
DESCRIPTION:
DTSTART;TZID=America/New_York:20300506T000000
DTEND;TZID=America/New_York:20300506T235900
LOCATION:
SUMMARY:Shelter Closed
END:VEVENT
END:VCALENDAR
