BEGIN:VCALENDAR
VERSION:2.0
PRODID:-//humanesocietycc.org//NONSGML kigkonsult.se iCalcreator 2.30.10//
CALSCALE:GREGORIAN
METHOD:PUBLISH
UID:5c3651c1-7c17-484f-ab3c-208c8fc9b316
X-WR-CALDESC:
X-WR-RELCALID:0b6d33a943a36a5399ada7657cbd0062
X-WR-TIMEZONE:America/New_York
BEGIN:VTIMEZONE
TZID:America/New_York
BEGIN:STANDARD
TZNAME:EST
DTSTART:20291104T020000
TZOFFSETFROM:-0400
TZOFFSETTO:-0500
RDATE:20301103T020000
RDATE:20311102T020000
END:STANDARD
BEGIN:DAYLIGHT
TZNAME:EDT
DTSTART:20300310T020000
TZOFFSETFROM:-0500
TZOFFSETTO:-0400
RDATE:20310309T020000
END:DAYLIGHT
END:VTIMEZONE
BEGIN:VEVENT
UID:955729c7-4f4d-4fa5-93a6-d48535e7b121
DTSTAMP:20260424T104212Z
DESCRIPTION:
DTSTART;TZID=America/New_York:20300513T000000
DTEND;TZID=America/New_York:20300513T235900
LOCATION:
SUMMARY:Shelter Closed
END:VEVENT
END:VCALENDAR
