BEGIN:VCALENDAR
VERSION:2.0
PRODID:-//humanesocietycc.org//NONSGML kigkonsult.se iCalcreator 2.30.10//
CALSCALE:GREGORIAN
METHOD:PUBLISH
UID:4d9d650d-ac46-4414-a224-f6e66b64c8de
X-WR-CALDESC:
X-WR-RELCALID:30d7a01ee221cb1aeb547c55c88b3502
X-WR-TIMEZONE:America/New_York
BEGIN:VTIMEZONE
TZID:America/New_York
BEGIN:STANDARD
TZNAME:EST
DTSTART:20291104T020000
TZOFFSETFROM:-0400
TZOFFSETTO:-0500
RDATE:20301103T020000
RDATE:20311102T020000
END:STANDARD
BEGIN:DAYLIGHT
TZNAME:EDT
DTSTART:20300310T020000
TZOFFSETFROM:-0500
TZOFFSETTO:-0400
RDATE:20310309T020000
END:DAYLIGHT
END:VTIMEZONE
BEGIN:VEVENT
UID:8f56cc65-c208-4760-91da-9887b9d80d2c
DTSTAMP:20260424T110921Z
DESCRIPTION:
DTSTART;TZID=America/New_York:20300520T000000
DTEND;TZID=America/New_York:20300520T235900
LOCATION:
SUMMARY:Shelter Closed
END:VEVENT
END:VCALENDAR
