BEGIN:VCALENDAR
VERSION:2.0
PRODID:-//humanesocietycc.org//NONSGML kigkonsult.se iCalcreator 2.30.10//
CALSCALE:GREGORIAN
METHOD:PUBLISH
UID:8b6bedc4-6863-4663-85bf-cd77219dad93
X-WR-CALDESC:
X-WR-RELCALID:82763d5b28d56986dbefb77a808dd790
X-WR-TIMEZONE:America/New_York
BEGIN:VTIMEZONE
TZID:America/New_York
BEGIN:STANDARD
TZNAME:EST
DTSTART:20291104T020000
TZOFFSETFROM:-0400
TZOFFSETTO:-0500
RDATE:20301103T020000
RDATE:20311102T020000
END:STANDARD
BEGIN:DAYLIGHT
TZNAME:EDT
DTSTART:20300310T020000
TZOFFSETFROM:-0500
TZOFFSETTO:-0400
RDATE:20310309T020000
END:DAYLIGHT
END:VTIMEZONE
BEGIN:VEVENT
UID:9a8d10e6-66cb-483e-b588-188729f8e703
DTSTAMP:20260424T123816Z
DESCRIPTION:
DTSTART;TZID=America/New_York:20300610T000000
DTEND;TZID=America/New_York:20300610T235900
LOCATION:
SUMMARY:Shelter Closed
END:VEVENT
END:VCALENDAR
