BEGIN:VCALENDAR
VERSION:2.0
PRODID:-//humanesocietycc.org//NONSGML kigkonsult.se iCalcreator 2.30.10//
CALSCALE:GREGORIAN
METHOD:PUBLISH
UID:b17f6a23-97f6-44e5-9dad-5549dff045d5
X-WR-CALDESC:
X-WR-RELCALID:52804a2601fd6d9a597ee9b799d3d17b
X-WR-TIMEZONE:America/New_York
BEGIN:VTIMEZONE
TZID:America/New_York
BEGIN:STANDARD
TZNAME:EST
DTSTART:20291104T020000
TZOFFSETFROM:-0400
TZOFFSETTO:-0500
RDATE:20301103T020000
RDATE:20311102T020000
END:STANDARD
BEGIN:DAYLIGHT
TZNAME:EDT
DTSTART:20300310T020000
TZOFFSETFROM:-0500
TZOFFSETTO:-0400
RDATE:20310309T020000
END:DAYLIGHT
END:VTIMEZONE
BEGIN:VEVENT
UID:8d3f5f9a-2640-4e00-8a64-b4331ff4dc84
DTSTAMP:20260424T122404Z
DESCRIPTION:
DTSTART;TZID=America/New_York:20300617T000000
DTEND;TZID=America/New_York:20300617T235900
LOCATION:
SUMMARY:Shelter Closed
END:VEVENT
END:VCALENDAR
