BEGIN:VCALENDAR
VERSION:2.0
PRODID:-//humanesocietycc.org//NONSGML kigkonsult.se iCalcreator 2.30.10//
CALSCALE:GREGORIAN
METHOD:PUBLISH
UID:a862d711-9dce-40bb-ba6b-885d365631bf
X-WR-CALDESC:
X-WR-RELCALID:8ed44a1a8d854a22588367ceae5504b9
X-WR-TIMEZONE:America/New_York
BEGIN:VTIMEZONE
TZID:America/New_York
BEGIN:STANDARD
TZNAME:EST
DTSTART:20291104T020000
TZOFFSETFROM:-0400
TZOFFSETTO:-0500
RDATE:20301103T020000
RDATE:20311102T020000
END:STANDARD
BEGIN:DAYLIGHT
TZNAME:EDT
DTSTART:20300310T020000
TZOFFSETFROM:-0500
TZOFFSETTO:-0400
RDATE:20310309T020000
END:DAYLIGHT
END:VTIMEZONE
BEGIN:VEVENT
UID:556de080-67dc-407f-a03d-a63f7ddd027a
DTSTAMP:20260424T122705Z
DESCRIPTION:
DTSTART;TZID=America/New_York:20300624T000000
DTEND;TZID=America/New_York:20300624T235900
LOCATION:
SUMMARY:Shelter Closed
END:VEVENT
END:VCALENDAR
