BEGIN:VCALENDAR
VERSION:2.0
PRODID:-//humanesocietycc.org//NONSGML kigkonsult.se iCalcreator 2.30.10//
CALSCALE:GREGORIAN
METHOD:PUBLISH
UID:8f739327-98f6-4f27-880c-0cc734f0638a
X-WR-CALDESC:The shelter is closed today for the holiday. We can't wait to 
 see you soon!
X-WR-RELCALID:f8a1d3735f434097d7e5e9975c7696ba
X-WR-TIMEZONE:America/New_York
BEGIN:VTIMEZONE
TZID:America/New_York
BEGIN:STANDARD
TZNAME:EST
DTSTART:20291104T020000
TZOFFSETFROM:-0400
TZOFFSETTO:-0500
RDATE:20301103T020000
RDATE:20311102T020000
END:STANDARD
BEGIN:DAYLIGHT
TZNAME:EDT
DTSTART:20300310T020000
TZOFFSETFROM:-0500
TZOFFSETTO:-0400
RDATE:20310309T020000
END:DAYLIGHT
END:VTIMEZONE
BEGIN:VEVENT
UID:2fb877ee-372a-4df7-b725-a51886e219ba
DTSTAMP:20260424T140310Z
DESCRIPTION:The shelter is closed today for the holiday. We can't wait to s
 ee you soon!
DTSTART;TZID=America/New_York:20300704T000000
DTEND;TZID=America/New_York:20300704T235900
LOCATION:
SUMMARY:Shelter Closed
END:VEVENT
END:VCALENDAR
