BEGIN:VCALENDAR
VERSION:2.0
PRODID:-//humanesocietycc.org//NONSGML kigkonsult.se iCalcreator 2.30.10//
CALSCALE:GREGORIAN
METHOD:PUBLISH
UID:cccc5e7d-6992-4c99-a9ed-80908a16b429
X-WR-CALDESC:
X-WR-RELCALID:918837aa40b47a0318c6f29a45567812
X-WR-TIMEZONE:America/New_York
BEGIN:VTIMEZONE
TZID:America/New_York
BEGIN:STANDARD
TZNAME:EST
DTSTART:20291104T020000
TZOFFSETFROM:-0400
TZOFFSETTO:-0500
RDATE:20301103T020000
RDATE:20311102T020000
END:STANDARD
BEGIN:DAYLIGHT
TZNAME:EDT
DTSTART:20300310T020000
TZOFFSETFROM:-0500
TZOFFSETTO:-0400
RDATE:20310309T020000
END:DAYLIGHT
END:VTIMEZONE
BEGIN:VEVENT
UID:976d505f-4220-4203-91d9-f145f548a8ac
DTSTAMP:20260424T140542Z
DESCRIPTION:
DTSTART;TZID=America/New_York:20300715T000000
DTEND;TZID=America/New_York:20300715T235900
LOCATION:
SUMMARY:Shelter Closed
END:VEVENT
END:VCALENDAR
