BEGIN:VCALENDAR
VERSION:2.0
PRODID:-//humanesocietycc.org//NONSGML kigkonsult.se iCalcreator 2.30.10//
CALSCALE:GREGORIAN
METHOD:PUBLISH
UID:66d6109e-9c4b-4996-9525-f56eb4874c7f
X-WR-CALDESC:
X-WR-RELCALID:0458d29dc9748e1f48fe920e1431f5c1
X-WR-TIMEZONE:America/New_York
BEGIN:VTIMEZONE
TZID:America/New_York
BEGIN:STANDARD
TZNAME:EST
DTSTART:20261101T020000
TZOFFSETFROM:-0400
TZOFFSETTO:-0500
RDATE:20271107T020000
END:STANDARD
BEGIN:DAYLIGHT
TZNAME:EDT
DTSTART:20260308T020000
TZOFFSETFROM:-0500
TZOFFSETTO:-0400
RDATE:20270314T020000
RDATE:20280312T020000
END:DAYLIGHT
END:VTIMEZONE
BEGIN:VEVENT
UID:4981d728-28ce-4fa7-9bcf-cc2f6a664e36
DTSTAMP:20260421T084703Z
DESCRIPTION:
DTSTART;TZID=America/New_York:20261207T000000
DTEND;TZID=America/New_York:20261207T235900
LOCATION:
SUMMARY:Shelter Closed
END:VEVENT
END:VCALENDAR
