BEGIN:VCALENDAR
VERSION:2.0
PRODID:-//humanesocietycc.org//NONSGML kigkonsult.se iCalcreator 2.30.10//
CALSCALE:GREGORIAN
METHOD:PUBLISH
UID:a25bcd5c-024d-4aa8-bc20-eee4dd2ed5e3
X-WR-CALDESC:
X-WR-RELCALID:8ad17430b67afdb7138658ed4de4f4ba
X-WR-TIMEZONE:America/New_York
BEGIN:VTIMEZONE
TZID:America/New_York
BEGIN:STANDARD
TZNAME:EST
DTSTART:20261101T020000
TZOFFSETFROM:-0400
TZOFFSETTO:-0500
RDATE:20271107T020000
END:STANDARD
BEGIN:DAYLIGHT
TZNAME:EDT
DTSTART:20260308T020000
TZOFFSETFROM:-0500
TZOFFSETTO:-0400
RDATE:20270314T020000
RDATE:20280312T020000
END:DAYLIGHT
END:VTIMEZONE
BEGIN:VEVENT
UID:c996d19a-e1d8-42d8-848b-7201c7d198ab
DTSTAMP:20260421T084342Z
DESCRIPTION:
DTSTART;TZID=America/New_York:20261228T000000
DTEND;TZID=America/New_York:20261228T235900
LOCATION:
SUMMARY:Shelter Closed
END:VEVENT
END:VCALENDAR
